BEGIN:VCALENDAR
VERSION:2.0
PRODID:icalendar-ruby
CALSCALE:GREGORIAN
METHOD:PUBLISH
BEGIN:VEVENT
DTSTAMP:20260422T191309Z
UID:184-2582337@stpaulcastlerock.org
DTSTART:20260424T010000Z
DTEND:20260424T030000Z
CLASS:PUBLIC
CREATED:20260322T130203
DESCRIPTION:Your church council meets monthly to conduct business essential
  to the operations of the church and its ministries and missions. The meet
 ings are open to visitors.
LAST-MODIFIED:20260322T130203
LOCATION:312 First Ave. S.W.  Castle Rock WA
SUMMARY:Church Council Meeting
URL;VALUE=URI:https://stpaulcastlerock.org/events/church-council-meeting--1
 84/2026-04-23
END:VEVENT
END:VCALENDAR
