BEGIN:VCALENDAR
VERSION:2.0
PRODID:icalendar-ruby
CALSCALE:GREGORIAN
METHOD:PUBLISH
BEGIN:VEVENT
DTSTAMP:20260424T172953Z
UID:153-2969756@stpaulcastlerock.org
DTSTART;VALUE=DATE:20261019
DTEND;VALUE=DATE:20261019
CLASS:PUBLIC
CREATED:20260424T094758
DESCRIPTION:Remember that our office is closed on Mondays. Messages can be 
 left at 360.274.6604
LAST-MODIFIED:20260424T094758
LOCATION:
SUMMARY:Church Office Closed
URL;VALUE=URI:https://stpaulcastlerock.org/events/church-office-closed--153
 /2026-10-19
END:VEVENT
END:VCALENDAR
