BEGIN:VCALENDAR
VERSION:2.0
PRODID:icalendar-ruby
CALSCALE:GREGORIAN
METHOD:PUBLISH
BEGIN:VEVENT
DTSTAMP:20260424T210705Z
UID:153-2971736@stpaulcastlerock.org
DTSTART;VALUE=DATE:20261102
DTEND;VALUE=DATE:20261102
CLASS:PUBLIC
CREATED:20260424T123422
DESCRIPTION:Remember that our office is closed on Mondays. Messages can be 
 left at 360.274.6604
LAST-MODIFIED:20260424T123422
LOCATION:
SUMMARY:Church Office Closed
URL;VALUE=URI:https://stpaulcastlerock.org/events/church-office-closed--153
 /2026-11-02
END:VEVENT
END:VCALENDAR
